BEGIN:VCALENDAR
VERSION:2.0
PRODID:-//Palmer Lake Historical Society - ECPv6.15.20//NONSGML v1.0//EN
CALSCALE:GREGORIAN
METHOD:PUBLISH
X-WR-CALNAME:Palmer Lake Historical Society
X-ORIGINAL-URL:https://palmerdividehistory.org
X-WR-CALDESC:Events for Palmer Lake Historical Society
REFRESH-INTERVAL;VALUE=DURATION:PT1H
X-Robots-Tag:noindex
X-PUBLISHED-TTL:PT1H
BEGIN:VTIMEZONE
TZID:America/Denver
BEGIN:DAYLIGHT
TZOFFSETFROM:-0700
TZOFFSETTO:-0600
TZNAME:MDT
DTSTART:20250309T090000
END:DAYLIGHT
BEGIN:STANDARD
TZOFFSETFROM:-0600
TZOFFSETTO:-0700
TZNAME:MST
DTSTART:20251102T080000
END:STANDARD
BEGIN:DAYLIGHT
TZOFFSETFROM:-0700
TZOFFSETTO:-0600
TZNAME:MDT
DTSTART:20260308T090000
END:DAYLIGHT
BEGIN:STANDARD
TZOFFSETFROM:-0600
TZOFFSETTO:-0700
TZNAME:MST
DTSTART:20261101T080000
END:STANDARD
BEGIN:DAYLIGHT
TZOFFSETFROM:-0700
TZOFFSETTO:-0600
TZNAME:MDT
DTSTART:20270314T090000
END:DAYLIGHT
BEGIN:STANDARD
TZOFFSETFROM:-0600
TZOFFSETTO:-0700
TZNAME:MST
DTSTART:20271107T080000
END:STANDARD
END:VTIMEZONE
BEGIN:VEVENT
DTSTART;TZID=America/Denver:20260219T190000
DTEND;TZID=America/Denver:20260219T210000
DTSTAMP:20260424T024448
CREATED:20260101T062018Z
LAST-MODIFIED:20260101T062018Z
UID:3134-1771527600-1771534800@palmerdividehistory.org
SUMMARY:Cherokee Trail Artifacts Across the Palmer Divide: History\, Culture and Discoveries Unearthed - By Annie Berlemann - 2026
DESCRIPTION:Date:  Thursday\, February 19\, 2026\nTime:  7:00 – 9:00 pm\nLocation:  Palmer Lake Town Hall                       \nAnnie Berlemann is a dedicated scientist\, amateur journalist\, and long-time resident of the Palmer Divide region in Colorado. Her deep connection to the land and its history led to the discovery of fantastic artifacts linked to the Cherokee Trail on her property in the scenic Palmer Divide area.
URL:https://palmerdividehistory.org/event/cherokee-trail-artifacts-across-the-palmer-divide-history-culture-and-discoveries-unearthed-by-annie-berlemann-2026/
LOCATION:Palmer Lake Town Hall\, 28 Valley Crescent St.\, Palmer Lake\, CO\, United States
ATTACH;FMTTYPE=image/jpeg:https://palmerdividehistory.org/wp-content/uploads/2025/12/Cherokee-Trail-Artifacts-Calendar.jpg
END:VEVENT
END:VCALENDAR